BEGIN:VCALENDAR
VERSION:2.0
PRODID:-//RIGHTHERE//CALENDARIZE IT V3.2//EN
BEGIN:VTIMEZONE
TZID:Europe/Berlin
X-MICROSOFT-CDO-TZID:4
BEGIN:STANDARD
DTSTART:20251026T010000
TZOFFSETFROM:+0200
TZOFFSETTO:+0100
TZNAME:CET
END:STANDARD
BEGIN:DAYLIGHT
DTSTART:20260329T010000
TZOFFSETFROM:+0100
TZOFFSETTO:+0200
TZNAME:CEST
END:DAYLIGHT
BEGIN:STANDARD
DTSTART:20261025T010000
TZOFFSETFROM:+0200
TZOFFSETTO:+0100
TZNAME:CET
END:STANDARD
END:VTIMEZONE
BEGIN:VEVENT
UID:2380-events@www.pruttinger-dorfstadl.de
DTSTART;TZID=Europe/Berlin:20251227T180000
DTEND;TZID=Europe/Berlin:20251227T230000
DTSTAMP;TZID=Europe/Berlin:20241121T110713
SUMMARY:Theateraufführung
RRULE:FREQ=DAILY;INTERVAL=1;UNTIL=20251228
ORGANIZER;CN=Theatergemeinschaft Prutting e.V.:MAILTO:vorstand@theater-prut
 ting.de
LOCATION:Großer Saal
END:VEVENT
END:VCALENDAR